Name | Last modified | Size | Description | |
---|---|---|---|---|
Parent Directory | - | |||
install-summary.dcf | 24-Jul-2024 22:03 | 263 | ||
install-out.txt | 24-Jul-2024 22:03 | 958 | ||
checksrc-summary.dcf | 24-Jul-2024 22:03 | 422 | ||
checksrc-out.txt | 24-Jul-2024 22:03 | 12K | ||
buildsrc-summary.dcf | 24-Jul-2024 22:03 | 423 | ||
buildsrc-out.txt | 24-Jul-2024 22:03 | 854 | ||