Back to Multiple platform build/check report for BioC 3.18:   simplified   long
ABCDEFGHIJKLMNOPQ[R]STUVWXYZ

This page was generated on 2024-02-28 11:37:11 -0500 (Wed, 28 Feb 2024).

HostnameOSArch (*)R versionInstalled pkgs
nebbiolo2Linux (Ubuntu 22.04.3 LTS)x86_644.3.2 Patched (2023-11-13 r85521) -- "Eye Holes" 4692
palomino4Windows Server 2022 Datacenterx644.3.2 (2023-10-31 ucrt) -- "Eye Holes" 4445
lconwaymacOS 12.7.1 Montereyx86_644.3.2 Patched (2023-11-01 r85457) -- "Eye Holes" 4466
Click on any hostname to see more info about the system (e.g. compilers)      (*) as reported by 'uname -p', except on Windows and Mac OS X

Package 1660/2266HostnameOS / ArchINSTALLBUILDCHECKBUILD BIN
RareVariantVis 2.30.0  (landing page)
Tomasz Stokowy
Snapshot Date: 2024-02-27 14:05:07 -0500 (Tue, 27 Feb 2024)
git_url: https://git.bioconductor.org/packages/RareVariantVis
git_branch: RELEASE_3_18
git_last_commit: 3234d00
git_last_commit_date: 2023-10-24 10:43:51 -0500 (Tue, 24 Oct 2023)
nebbiolo2Linux (Ubuntu 22.04.3 LTS) / x86_64  OK    OK    OK  UNNEEDED, same version is already published
palomino4Windows Server 2022 Datacenter / x64  OK    OK    OK    OK  UNNEEDED, same version is already published
lconwaymacOS 12.7.1 Monterey / x86_64  OK    OK    OK    OK  UNNEEDED, same version is already published
kjohnson1macOS 13.6.1 Ventura / arm64see weekly results here

CHECK results for RareVariantVis on palomino4


To the developers/maintainers of the RareVariantVis package:
- Allow up to 24 hours (and sometimes 48 hours) for your latest push to git@git.bioconductor.org:packages/RareVariantVis.git to reflect on this report. See Troubleshooting Build Report for more information.
- Use the following Renviron settings to reproduce errors and warnings.
- If 'R CMD check' started to fail recently on the Linux builder(s) over a missing dependency, add the missing dependency to 'Suggests:' in your DESCRIPTION file. See Renviron.bioc for more information.

raw results


Summary

Package: RareVariantVis
Version: 2.30.0
Command: F:\biocbuild\bbs-3.18-bioc\R\bin\R.exe CMD check --no-multiarch --install=check:RareVariantVis.install-out.txt --library=F:\biocbuild\bbs-3.18-bioc\R\library --no-vignettes --timings RareVariantVis_2.30.0.tar.gz
StartedAt: 2024-02-28 05:24:03 -0500 (Wed, 28 Feb 2024)
EndedAt: 2024-02-28 05:29:30 -0500 (Wed, 28 Feb 2024)
EllapsedTime: 327.2 seconds
RetCode: 0
Status:   OK  
CheckDir: RareVariantVis.Rcheck
Warnings: 0

Command output

##############################################################################
##############################################################################
###
### Running command:
###
###   F:\biocbuild\bbs-3.18-bioc\R\bin\R.exe CMD check --no-multiarch --install=check:RareVariantVis.install-out.txt --library=F:\biocbuild\bbs-3.18-bioc\R\library --no-vignettes --timings RareVariantVis_2.30.0.tar.gz
###
##############################################################################
##############################################################################


* using log directory 'F:/biocbuild/bbs-3.18-bioc/meat/RareVariantVis.Rcheck'
* using R version 4.3.2 (2023-10-31 ucrt)
* using platform: x86_64-w64-mingw32 (64-bit)
* R was compiled by
    gcc.exe (GCC) 12.3.0
    GNU Fortran (GCC) 12.3.0
* running under: Windows Server 2022 x64 (build 20348)
* using session charset: UTF-8
* using option '--no-vignettes'
* checking for file 'RareVariantVis/DESCRIPTION' ... OK
* checking extension type ... Package
* this is package 'RareVariantVis' version '2.30.0'
* checking package namespace information ... OK
* checking package dependencies ... OK
* checking if this is a source package ... OK
* checking if there is a namespace ... OK
* checking for hidden files and directories ... OK
* checking for portable file names ... OK
* checking whether package 'RareVariantVis' can be installed ... OK
* checking installed package size ... OK
* checking package directory ... OK
* checking 'build' directory ... OK
* checking DESCRIPTION meta-information ... OK
* checking top-level files ... OK
* checking for left-over files ... OK
* checking index information ... OK
* checking package subdirectories ... OK
* checking R files for non-ASCII characters ... OK
* checking R files for syntax errors ... OK
* checking whether the package can be loaded ... OK
* checking whether the package can be loaded with stated dependencies ... OK
* checking whether the package can be unloaded cleanly ... OK
* checking whether the namespace can be loaded with stated dependencies ... OK
* checking whether the namespace can be unloaded cleanly ... OK
* checking dependencies in R code ... OK
* checking S3 generic/method consistency ... OK
* checking replacement functions ... OK
* checking foreign function calls ... OK
* checking R code for possible problems ... OK
* checking Rd files ... OK
* checking Rd metadata ... OK
* checking Rd cross-references ... OK
* checking for missing documentation entries ... OK
* checking for code/documentation mismatches ... OK
* checking Rd \usage sections ... OK
* checking Rd contents ... OK
* checking for unstated dependencies in examples ... OK
* checking sizes of PDF files under 'inst/doc' ... OK
* checking files in 'vignettes' ... OK
* checking examples ... OK
Examples with CPU (user + system) or elapsed time > 5s
               user system elapsed
chromosomeVis 17.02   0.54   19.53
* checking for unstated dependencies in vignettes ... OK
* checking package vignettes in 'inst/doc' ... OK
* checking running R code from vignettes ... SKIPPED
* checking re-building of vignette outputs ... SKIPPED
* checking PDF version of manual ... OK
* DONE

Status: OK


Installation output

RareVariantVis.Rcheck/00install.out

##############################################################################
##############################################################################
###
### Running command:
###
###   F:\biocbuild\bbs-3.18-bioc\R\bin\R.exe CMD INSTALL RareVariantVis
###
##############################################################################
##############################################################################


* installing to library 'F:/biocbuild/bbs-3.18-bioc/R/library'
* installing *source* package 'RareVariantVis' ...
** using staged installation
** R
** inst
** byte-compile and prepare package for lazy loading
Warning: replacing previous import 'utils::findMatches' by 'S4Vectors::findMatches' when loading 'phastCons100way.UCSC.hg19'
** help
*** installing help indices
** building package indices
** installing vignettes
** testing if installed package can be loaded from temporary location
Warning: replacing previous import 'utils::findMatches' by 'S4Vectors::findMatches' when loading 'phastCons100way.UCSC.hg19'
** testing if installed package can be loaded from final location
Warning: replacing previous import 'utils::findMatches' by 'S4Vectors::findMatches' when loading 'phastCons100way.UCSC.hg19'
** testing if installed package keeps a record of temporary installation path
* DONE (RareVariantVis)

Tests output


Example timings

RareVariantVis.Rcheck/RareVariantVis-Ex.timings

nameusersystemelapsed
callHomozygous000
chromosomeVis17.02 0.5419.53
getCrisprGuides0.640.230.88
movingAverage000
multipleVis0.050.000.06
rareVariantVis0.240.020.25