Name | Last modified | Size | Description | |
---|---|---|---|---|
Parent Directory | - | |||
buildbin-out.txt | 27-Jul-2024 06:41 | 1.4K | ||
buildbin-summary.dcf | 27-Jul-2024 06:41 | 518 | ||
buildsrc-out.txt | 27-Jul-2024 06:41 | 871 | ||
buildsrc-summary.dcf | 27-Jul-2024 06:41 | 423 | ||
checksrc-out.txt | 27-Jul-2024 06:41 | 5.1K | ||
checksrc-summary.dcf | 27-Jul-2024 06:41 | 436 | ||
install-out.txt | 27-Jul-2024 06:41 | 1.2K | ||
install-summary.dcf | 27-Jul-2024 06:41 | 265 | ||