Index of /checkResults/release/bioc-LATEST/RGraph2js/raw-results
Name
Last modified
Size
Description
Parent Directory
-
info.dcf
19-May-2024 00:35
275
kunpeng2/
10-May-2024 00:41
-
lconway/
19-May-2024 00:38
-
merida1/
05-Mar-2024 01:39
-
nebbiolo1/
19-May-2024 00:36
-
palomino3/
19-May-2024 00:37
-