Name | Last modified | Size | Description | |
---|---|---|---|---|
Parent Directory | - | |||
buildsrc-out.txt | 19-May-2024 00:36 | 814 | ||
buildsrc-summary.dcf | 19-May-2024 00:36 | 423 | ||
checksrc-out.txt | 19-May-2024 00:36 | 3.8K | ||
checksrc-summary.dcf | 19-May-2024 00:36 | 421 | ||
install-out.txt | 19-May-2024 00:36 | 958 | ||
install-summary.dcf | 19-May-2024 00:36 | 262 | ||