Index of /checkResults/release/bioc-LATEST/Pigengene/raw-results/lconway

[ICO]NameLast modifiedSizeDescription

[DIR]Parent Directory  -  
[TXT]buildbin-out.txt23-Feb-2024 01:38 1.2K 
[   ]buildbin-summary.dcf23-Feb-2024 01:38 542  
[TXT]buildsrc-out.txt23-Feb-2024 01:38 887  
[   ]buildsrc-summary.dcf23-Feb-2024 01:38 434  
[TXT]checksrc-out.txt23-Feb-2024 01:38 4.7K 
[   ]checksrc-summary.dcf23-Feb-2024 01:38 452  
[TXT]install-out.txt23-Feb-2024 01:38 1.0K 
[   ]install-summary.dcf23-Feb-2024 01:38 273