Index of /checkResults/release/bioc-LATEST/Pigengene/raw-results/lconway

[ICO]NameLast modifiedSizeDescription

[DIR]Parent Directory  -  
[TXT]buildbin-out.txt05-Mar-2024 01:37 1.2K 
[   ]buildbin-summary.dcf05-Mar-2024 01:37 542  
[TXT]buildsrc-out.txt05-Mar-2024 01:37 887  
[   ]buildsrc-summary.dcf05-Mar-2024 01:37 434  
[TXT]checksrc-out.txt05-Mar-2024 01:37 4.7K 
[   ]checksrc-summary.dcf05-Mar-2024 01:37 452  
[TXT]install-out.txt05-Mar-2024 01:37 1.0K 
[   ]install-summary.dcf05-Mar-2024 01:37 273