Back to Multiple platform build/check report for BioC 3.18:   simplified   long
ABCDEFGHIJKLMNO[P]QRSTUVWXYZ

This page was generated on 2024-02-27 11:36:03 -0500 (Tue, 27 Feb 2024).

HostnameOSArch (*)R versionInstalled pkgs
nebbiolo2Linux (Ubuntu 22.04.3 LTS)x86_644.3.2 Patched (2023-11-13 r85521) -- "Eye Holes" 4691
palomino4Windows Server 2022 Datacenterx644.3.2 (2023-10-31 ucrt) -- "Eye Holes" 4444
lconwaymacOS 12.7.1 Montereyx86_644.3.2 Patched (2023-11-01 r85457) -- "Eye Holes" 4465
Click on any hostname to see more info about the system (e.g. compilers)      (*) as reported by 'uname -p', except on Windows and Mac OS X

Package 1552/2266HostnameOS / ArchINSTALLBUILDCHECKBUILD BIN
PING 2.46.0  (landing page)
Renan Sauteraud
Snapshot Date: 2024-02-26 14:53:20 -0500 (Mon, 26 Feb 2024)
git_url: https://git.bioconductor.org/packages/PING
git_branch: RELEASE_3_18
git_last_commit: 49706e2
git_last_commit_date: 2023-10-24 09:49:31 -0500 (Tue, 24 Oct 2023)
nebbiolo2Linux (Ubuntu 22.04.3 LTS) / x86_64  OK    OK    WARNINGS  UNNEEDED, same version is already published
palomino4Windows Server 2022 Datacenter / x64  OK    OK    WARNINGS    OK  UNNEEDED, same version is already published
lconwaymacOS 12.7.1 Monterey / x86_64  OK    OK    WARNINGS    OK  UNNEEDED, same version is already published
kjohnson1macOS 13.6.1 Ventura / arm64see weekly results here

INSTALL results for PING on nebbiolo2


To the developers/maintainers of the PING package:
- Allow up to 24 hours (and sometimes 48 hours) for your latest push to git@git.bioconductor.org:packages/PING.git to reflect on this report. See Troubleshooting Build Report for more information.
- Use the following Renviron settings to reproduce errors and warnings.
- If 'R CMD check' started to fail recently on the Linux builder(s) over a missing dependency, add the missing dependency to 'Suggests:' in your DESCRIPTION file. See Renviron.bioc for more information.

raw results


Summary

Package: PING
Version: 2.46.0
Command: /home/biocbuild/bbs-3.18-bioc/R/bin/R CMD INSTALL PING
StartedAt: 2024-02-26 16:28:27 -0500 (Mon, 26 Feb 2024)
EndedAt: 2024-02-26 16:29:26 -0500 (Mon, 26 Feb 2024)
EllapsedTime: 58.3 seconds
RetCode: 0
Status:   OK  

Command output

##############################################################################
##############################################################################
###
### Running command:
###
###   /home/biocbuild/bbs-3.18-bioc/R/bin/R CMD INSTALL PING
###
##############################################################################
##############################################################################


* installing to library ‘/home/biocbuild/bbs-3.18-bioc/R/site-library’
* installing *source* package ‘PING’ ...
** using staged installation
checking for pkg-config... /usr/bin/pkg-config
checking pkg-config is at least version 0.9.0... yes
checking for GSL... yes
configure: creating ./config.status
config.status: creating src/Makevars
** libs
using C compiler: ‘gcc (Ubuntu 11.4.0-1ubuntu1~22.04) 11.4.0’
gcc -I"/home/biocbuild/bbs-3.18-bioc/R/include" -DNDEBUG   -I/usr/local/include    -fpic  -g -O2  -Wall -c init.c -o init.o
gcc -I"/home/biocbuild/bbs-3.18-bioc/R/include" -DNDEBUG   -I/usr/local/include    -fpic  -g -O2  -Wall -c ping.c -o ping.o
ping.c: In function ‘fitModelAllk’:
ping.c:145:40: warning: suggest parentheses around comparison in operand of ‘&’ [-Wparentheses]
  145 |   if( REAL(VECTOR_ELT(paraPrior, 5))[0]>0 & REAL(VECTOR_ELT(paraEM, 0))[0]==0) // automatically decide minK and maxKK for histone data, when minK=0
      |       ~~~~~~~~~~~~~~~~~~~~~~~~~~~~~~~~~^~
ping.c: In function ‘ECM2’:
ping.c:1536:16: warning: variable ‘chiSum’ set but not used [-Wunused-but-set-variable]
 1536 |         double chiSum = 0, etaF, etaR, dd, cc;
      |                ^~~~~~
ping.c: In function ‘mergePeak’:
ping.c:3280:20: warning: variable ‘tstatMax’ set but not used [-Wunused-but-set-variable]
 3280 |   double tstat=0.0,tstatMax=0.0;
      |                    ^~~~~~~~
ping.c: In function ‘fitModelK’:
ping.c:477:25: warning: ‘firstFit’ may be used uninitialized in this function [-Wmaybe-uninitialized]
  477 |         SEXP ans, temp, firstFit;
      |                         ^~~~~~~~
gcc -shared -L/home/biocbuild/bbs-3.18-bioc/R/lib -L/usr/local/lib -o PING.so init.o ping.o -lgsl -lgslcblas -lm -L/home/biocbuild/bbs-3.18-bioc/R/lib -lR
installing to /home/biocbuild/bbs-3.18-bioc/R/site-library/00LOCK-PING/00new/PING/libs
** R
** inst
** byte-compile and prepare package for lazy loading
** help
*** installing help indices
** building package indices
** installing vignettes
** testing if installed package can be loaded from temporary location
** checking absolute paths in shared objects and dynamic libraries
** testing if installed package can be loaded from final location
** testing if installed package keeps a record of temporary installation path
* DONE (PING)