Index of /checkResults/release/bioc-LATEST/OSAT/raw-results/nebbiolo2

[ICO]NameLast modifiedSizeDescription

[DIR]Parent Directory  -  
[TXT]buildsrc-out.txt23-Feb-2024 01:36 857  
[   ]buildsrc-summary.dcf23-Feb-2024 01:36 408  
[TXT]checksrc-out.txt23-Feb-2024 01:36 5.0K 
[   ]checksrc-summary.dcf23-Feb-2024 01:36 402  
[TXT]install-out.txt23-Feb-2024 01:36 951  
[   ]install-summary.dcf23-Feb-2024 01:36 252