Index of /checkResults/release/bioc-LATEST/OSAT/raw-results/nebbiolo2

[ICO]NameLast modifiedSizeDescription

[DIR]Parent Directory  -  
[TXT]install-out.txt30-Mar-2024 00:36 951  
[   ]install-summary.dcf30-Mar-2024 00:36 252  
[TXT]buildsrc-out.txt30-Mar-2024 00:36 857  
[   ]buildsrc-summary.dcf30-Mar-2024 00:36 408  
[TXT]checksrc-out.txt30-Mar-2024 00:36 5.0K 
[   ]checksrc-summary.dcf30-Mar-2024 00:36 402