Back to Multiple platform build/check report for BioC 3.18:   simplified   long
ABCDEFGHIJKL[M]NOPQRSTUVWXYZ

This page was generated on 2024-03-29 11:37:00 -0400 (Fri, 29 Mar 2024).

HostnameOSArch (*)R versionInstalled pkgs
nebbiolo2Linux (Ubuntu 22.04.3 LTS)x86_644.3.3 (2024-02-29) -- "Angel Food Cake" 4669
palomino4Windows Server 2022 Datacenterx644.3.3 (2024-02-29 ucrt) -- "Angel Food Cake" 4404
merida1macOS 12.7.1 Montereyx86_644.3.3 (2024-02-29) -- "Angel Food Cake" 4427
Click on any hostname to see more info about the system (e.g. compilers)      (*) as reported by 'uname -p', except on Windows and Mac OS X

Package 1300/2266HostnameOS / ArchINSTALLBUILDCHECKBUILD BIN
MoleculeExperiment 1.2.2  (landing page)
Shila Ghazanfar
Snapshot Date: 2024-03-27 14:05:05 -0400 (Wed, 27 Mar 2024)
git_url: https://git.bioconductor.org/packages/MoleculeExperiment
git_branch: RELEASE_3_18
git_last_commit: 22b0d71
git_last_commit_date: 2023-10-31 20:57:32 -0400 (Tue, 31 Oct 2023)
nebbiolo2Linux (Ubuntu 22.04.3 LTS) / x86_64  OK    OK    OK  UNNEEDED, same version is already published
palomino4Windows Server 2022 Datacenter / x64  OK    OK    OK    OK  UNNEEDED, same version is already published
merida1macOS 12.7.1 Monterey / x86_64  OK    OK    OK    OK  UNNEEDED, same version is already published
kjohnson1macOS 13.6.1 Ventura / arm64see weekly results here

BUILD BIN results for MoleculeExperiment on palomino4


To the developers/maintainers of the MoleculeExperiment package:
- Allow up to 24 hours (and sometimes 48 hours) for your latest push to git@git.bioconductor.org:packages/MoleculeExperiment.git to reflect on this report. See Troubleshooting Build Report for more information.
- Use the following Renviron settings to reproduce errors and warnings.
- If 'R CMD check' started to fail recently on the Linux builder(s) over a missing dependency, add the missing dependency to 'Suggests:' in your DESCRIPTION file. See Renviron.bioc for more information.

raw results


Summary

Package: MoleculeExperiment
Version: 1.2.2
Command: rm -rf MoleculeExperiment.buildbin-libdir && mkdir MoleculeExperiment.buildbin-libdir && F:\biocbuild\bbs-3.18-bioc\R\bin\R.exe CMD INSTALL --build --library=MoleculeExperiment.buildbin-libdir MoleculeExperiment_1.2.2.tar.gz
StartedAt: 2024-03-28 07:21:25 -0400 (Thu, 28 Mar 2024)
EndedAt: 2024-03-28 07:22:22 -0400 (Thu, 28 Mar 2024)
EllapsedTime: 56.9 seconds
RetCode: 0
Status:   OK  
PackageFile: MoleculeExperiment_1.2.2.zip
PackageFileSize: 9.179 MiB

Command output

##############################################################################
##############################################################################
###
### Running command:
###
###   rm -rf MoleculeExperiment.buildbin-libdir && mkdir MoleculeExperiment.buildbin-libdir && F:\biocbuild\bbs-3.18-bioc\R\bin\R.exe CMD INSTALL --build --library=MoleculeExperiment.buildbin-libdir MoleculeExperiment_1.2.2.tar.gz
###
##############################################################################
##############################################################################


* installing *source* package 'MoleculeExperiment' ...
** using staged installation
** R
** data
** inst
** byte-compile and prepare package for lazy loading
** help
*** installing help indices
** building package indices
** installing vignettes
** testing if installed package can be loaded from temporary location
** testing if installed package can be loaded from final location
** testing if installed package keeps a record of temporary installation path
* MD5 sums
packaged installation of 'MoleculeExperiment' as MoleculeExperiment_1.2.2.zip
* DONE (MoleculeExperiment)