Name | Last modified | Size | Description | |
---|---|---|---|---|
Parent Directory | - | |||
install-out.txt | 23-May-2024 00:35 | 2.0K | ||
install-summary.dcf | 23-May-2024 00:35 | 284 | ||
buildsrc-out.txt | 23-May-2024 00:35 | 939 | ||
buildsrc-summary.dcf | 23-May-2024 00:35 | 485 | ||
checksrc-out.txt | 23-May-2024 00:35 | 5.5K | ||
checksrc-summary.dcf | 23-May-2024 00:35 | 485 | ||
buildbin-out.txt | 23-May-2024 00:35 | 2.2K | ||
buildbin-summary.dcf | 23-May-2024 00:35 | 563 | ||