Back to Multiple platform build/check report for BioC 3.18:   simplified   long
ABCDEFGHIJKL[M]NOPQRSTUVWXYZ

This page was generated on 2024-02-27 11:36:54 -0500 (Tue, 27 Feb 2024).

HostnameOSArch (*)R versionInstalled pkgs
nebbiolo2Linux (Ubuntu 22.04.3 LTS)x86_644.3.2 Patched (2023-11-13 r85521) -- "Eye Holes" 4691
palomino4Windows Server 2022 Datacenterx644.3.2 (2023-10-31 ucrt) -- "Eye Holes" 4444
lconwaymacOS 12.7.1 Montereyx86_644.3.2 Patched (2023-11-01 r85457) -- "Eye Holes" 4465
Click on any hostname to see more info about the system (e.g. compilers)      (*) as reported by 'uname -p', except on Windows and Mac OS X

Package 1378/2266HostnameOS / ArchINSTALLBUILDCHECKBUILD BIN
MWASTools 1.26.0  (landing page)
Andrea Rodriguez-Martinez , Rafael Ayala
Snapshot Date: 2024-02-26 14:53:20 -0500 (Mon, 26 Feb 2024)
git_url: https://git.bioconductor.org/packages/MWASTools
git_branch: RELEASE_3_18
git_last_commit: 14a0245
git_last_commit_date: 2023-10-24 10:54:16 -0500 (Tue, 24 Oct 2023)
nebbiolo2Linux (Ubuntu 22.04.3 LTS) / x86_64  OK    OK    OK  UNNEEDED, same version is already published
palomino4Windows Server 2022 Datacenter / x64  OK    OK    OK    OK  UNNEEDED, same version is already published
lconwaymacOS 12.7.1 Monterey / x86_64  OK    OK    OK    OK  UNNEEDED, same version is already published
kjohnson1macOS 13.6.1 Ventura / arm64see weekly results here

CHECK results for MWASTools on palomino4


To the developers/maintainers of the MWASTools package:
- Allow up to 24 hours (and sometimes 48 hours) for your latest push to git@git.bioconductor.org:packages/MWASTools.git to reflect on this report. See Troubleshooting Build Report for more information.
- Use the following Renviron settings to reproduce errors and warnings.
- If 'R CMD check' started to fail recently on the Linux builder(s) over a missing dependency, add the missing dependency to 'Suggests:' in your DESCRIPTION file. See Renviron.bioc for more information.

raw results


Summary

Package: MWASTools
Version: 1.26.0
Command: F:\biocbuild\bbs-3.18-bioc\R\bin\R.exe CMD check --no-multiarch --install=check:MWASTools.install-out.txt --library=F:\biocbuild\bbs-3.18-bioc\R\library --no-vignettes --timings MWASTools_1.26.0.tar.gz
StartedAt: 2024-02-27 06:27:07 -0500 (Tue, 27 Feb 2024)
EndedAt: 2024-02-27 06:30:51 -0500 (Tue, 27 Feb 2024)
EllapsedTime: 223.7 seconds
RetCode: 0
Status:   OK  
CheckDir: MWASTools.Rcheck
Warnings: 0

Command output

##############################################################################
##############################################################################
###
### Running command:
###
###   F:\biocbuild\bbs-3.18-bioc\R\bin\R.exe CMD check --no-multiarch --install=check:MWASTools.install-out.txt --library=F:\biocbuild\bbs-3.18-bioc\R\library --no-vignettes --timings MWASTools_1.26.0.tar.gz
###
##############################################################################
##############################################################################


* using log directory 'F:/biocbuild/bbs-3.18-bioc/meat/MWASTools.Rcheck'
* using R version 4.3.2 (2023-10-31 ucrt)
* using platform: x86_64-w64-mingw32 (64-bit)
* R was compiled by
    gcc.exe (GCC) 12.3.0
    GNU Fortran (GCC) 12.3.0
* running under: Windows Server 2022 x64 (build 20348)
* using session charset: UTF-8
* using option '--no-vignettes'
* checking for file 'MWASTools/DESCRIPTION' ... OK
* checking extension type ... Package
* this is package 'MWASTools' version '1.26.0'
* package encoding: UTF-8
* checking package namespace information ... OK
* checking package dependencies ... OK
* checking if this is a source package ... OK
* checking if there is a namespace ... OK
* checking for hidden files and directories ... OK
* checking for portable file names ... OK
* checking whether package 'MWASTools' can be installed ... OK
* checking installed package size ... OK
* checking package directory ... OK
* checking 'build' directory ... OK
* checking DESCRIPTION meta-information ... OK
* checking top-level files ... OK
* checking for left-over files ... OK
* checking index information ... OK
* checking package subdirectories ... OK
* checking R files for non-ASCII characters ... OK
* checking R files for syntax errors ... OK
* checking whether the package can be loaded ... OK
* checking whether the package can be loaded with stated dependencies ... OK
* checking whether the package can be unloaded cleanly ... OK
* checking whether the namespace can be loaded with stated dependencies ... OK
* checking whether the namespace can be unloaded cleanly ... OK
* checking dependencies in R code ... OK
* checking S3 generic/method consistency ... OK
* checking replacement functions ... OK
* checking foreign function calls ... OK
* checking R code for possible problems ... NOTE
JBA_binning: no visible binding for global variable 'median'
JBA_corDistribution: no visible global function definition for 'ecdf'
JBA_corDistribution: no visible binding for global variable 'r.coeff'
JBA_corDistribution: no visible binding for global variable 'cum'
JBA_mergeClusters: no visible binding for global variable 'median'
JBA_plotBins: no visible binding for global variable 'limits'
JBA_plotBins: no visible binding for global variable 'value'
JBA_plotBins: no visible binding for global variable 'intensity'
JBA_plotBins: no visible binding for global variable 'mean_cor'
JBA_plotBins: no visible binding for global variable 'clean_mean'
MWAS_heatmap: no visible binding for '<<-' assignment to 'hr'
MWAS_heatmap: no visible binding for global variable 'hr'
MWAS_scatterplotMS: no visible binding for global variable 'logpval'
QC_CV_scatterplot: no visible binding for global variable 'abs.CV'
Undefined global functions or variables:
  abs.CV clean_mean cum ecdf hr intensity limits logpval mean_cor
  median r.coeff value
Consider adding
  importFrom("stats", "ecdf", "median")
to your NAMESPACE file.
* checking Rd files ... OK
* checking Rd metadata ... OK
* checking Rd cross-references ... OK
* checking for missing documentation entries ... OK
* checking for code/documentation mismatches ... OK
* checking Rd \usage sections ... OK
* checking Rd contents ... OK
* checking for unstated dependencies in examples ... OK
* checking contents of 'data' directory ... OK
* checking data for non-ASCII characters ... OK
* checking LazyData ... OK
* checking data for ASCII and uncompressed saves ... OK
* checking files in 'vignettes' ... OK
* checking examples ... OK
* checking for unstated dependencies in 'tests' ... OK
* checking tests ...
  Running 'runTests.R'
 OK
* checking for unstated dependencies in vignettes ... OK
* checking package vignettes in 'inst/doc' ... OK
* checking running R code from vignettes ... SKIPPED
* checking re-building of vignette outputs ... SKIPPED
* checking PDF version of manual ... OK
* DONE

Status: 1 NOTE
See
  'F:/biocbuild/bbs-3.18-bioc/meat/MWASTools.Rcheck/00check.log'
for details.



Installation output

MWASTools.Rcheck/00install.out

##############################################################################
##############################################################################
###
### Running command:
###
###   F:\biocbuild\bbs-3.18-bioc\R\bin\R.exe CMD INSTALL MWASTools
###
##############################################################################
##############################################################################


* installing to library 'F:/biocbuild/bbs-3.18-bioc/R/library'
* installing *source* package 'MWASTools' ...
** using staged installation
** R
** data
*** moving datasets to lazyload DB
** inst
** byte-compile and prepare package for lazy loading
** help
*** installing help indices
** building package indices
** installing vignettes
** testing if installed package can be loaded from temporary location
** testing if installed package can be loaded from final location
** testing if installed package keeps a record of temporary installation path
* DONE (MWASTools)

Tests output

MWASTools.Rcheck/tests/runTests.Rout


R version 4.3.2 (2023-10-31 ucrt) -- "Eye Holes"
Copyright (C) 2023 The R Foundation for Statistical Computing
Platform: x86_64-w64-mingw32/x64 (64-bit)

R is free software and comes with ABSOLUTELY NO WARRANTY.
You are welcome to redistribute it under certain conditions.
Type 'license()' or 'licence()' for distribution details.

R is a collaborative project with many contributors.
Type 'contributors()' for more information and
'citation()' on how to cite R or R packages in publications.

Type 'demo()' for some demos, 'help()' for on-line help, or
'help.start()' for an HTML browser interface to help.
Type 'q()' to quit R.

> BiocGenerics:::testPackage("MWASTools")
506 samples will be included in the analysis
506 samples will be included in the analysis
506 samples will be included in the analysis
506 samples will be included in the analysis
506 samples will be included in the analysis
506 samples will be included in the analysis
506 samples will be included in the analysis
506 samples will be included in the analysis
506 samples will be included in the analysis
506 samples will be included in the analysis
10 QC samples were detected
CV summary:
   % metabolite features with CV < 0.15 : 92
   % metabolite features with CV < 0.3 : 99

506 samples will be included in the analysis
10 QC samples were detected
CV summary:
   % metabolite features with CV < 0.15 : 92
   % metabolite features with CV < 0.3 : 99



RUNIT TEST PROTOCOL -- Tue Feb 27 06:30:41 2024 
*********************************************** 
Number of test functions: 5 
Number of errors: 0 
Number of failures: 0 

 
1 Test Suite : 
MWASTools RUnit Tests - 5 test functions, 0 errors, 0 failures
Number of test functions: 5 
Number of errors: 0 
Number of failures: 0 
There were 16 warnings (use warnings() to see them)
> 
> proc.time()
   user  system elapsed 
  10.03    0.57   10.59 

Example timings

MWASTools.Rcheck/MWASTools-Ex.timings

nameusersystemelapsed
CV_filter1.190.031.21
JBA_binning000
JBA_corDistribution000
JBA_plotBins000
MWAS_KEGG_network000
MWAS_KEGG_pathways000
MWAS_KEGG_shortestpaths000
MWAS_SummarizedExperiment000
MWAS_barplot1.750.131.87
MWAS_bootstrapping4.690.034.72
MWAS_filter0.800.000.79
MWAS_heatmap0.730.420.72
MWAS_network0.110.080.09
MWAS_scatterplotMS0.860.280.79
MWAS_skylineNMR1.140.031.17
MWAS_stats0.420.020.44
QC_CV0.290.000.28
QC_CV_scatterplot1.010.041.06
QC_CV_specNMR1.920.051.97
QC_PCA0.020.000.01
QC_PCA_scoreplot0.750.000.75
STOCSY_NMR0.750.010.76
plot_spectraNMR0.030.020.05