Name | Last modified | Size | Description | |
---|---|---|---|---|
Parent Directory | - | |||
buildbin-out.txt | 15-Jun-2024 03:38 | 5.3K | ||
buildbin-summary.dcf | 15-Jun-2024 03:38 | 543 | ||
buildsrc-out.txt | 15-Jun-2024 03:38 | 923 | ||
buildsrc-summary.dcf | 15-Jun-2024 03:38 | 469 | ||
checksrc-out.txt | 15-Jun-2024 03:38 | 7.8K | ||
checksrc-summary.dcf | 15-Jun-2024 03:38 | 471 | ||
install-out.txt | 15-Jun-2024 03:38 | 5.1K | ||
install-summary.dcf | 15-Jun-2024 03:38 | 277 | ||