Name | Last modified | Size | Description | |
---|---|---|---|---|
Parent Directory | - | |||
kjohnson3/ | 01-Jun-2024 06:03 | - | ||
kunpeng2/ | 10-May-2024 00:41 | - | ||
lconway/ | 31-May-2024 00:35 | - | ||
merida1/ | 05-Mar-2024 01:39 | - | ||
nebbiolo1/ | 01-Jun-2024 06:03 | - | ||
palomino3/ | 23-May-2024 00:35 | - | ||
info.dcf | 01-Jun-2024 06:02 | 279 | ||