![]() | Name | Last modified | Size | Description |
---|---|---|---|---|
![]() | Parent Directory | - | ||
![]() | buildsrc-out.txt | 26-Sep-2023 00:35 | 838 | |
![]() | buildsrc-summary.dcf | 26-Sep-2023 00:35 | 412 | |
![]() | checksrc-out.txt | 26-Sep-2023 00:35 | 7.4K | |
![]() | checksrc-summary.dcf | 26-Sep-2023 00:35 | 406 | |
![]() | install-out.txt | 26-Sep-2023 00:35 | 1.3K | |
![]() | install-summary.dcf | 26-Sep-2023 00:35 | 255 | |