Back to Multiple platform build/check report for BioC 3.18:   simplified   long
ABCDEFGHIJKL[M]NOPQRSTUVWXYZ

This page was generated on 2024-02-22 11:36:59 -0500 (Thu, 22 Feb 2024).

HostnameOSArch (*)R versionInstalled pkgs
nebbiolo2Linux (Ubuntu 22.04.3 LTS)x86_644.3.2 Patched (2023-11-13 r85521) -- "Eye Holes" 4691
palomino4Windows Server 2022 Datacenterx644.3.2 (2023-10-31 ucrt) -- "Eye Holes" 4444
lconwaymacOS 12.7.1 Montereyx86_644.3.2 Patched (2023-11-01 r85457) -- "Eye Holes" 4465
Click on any hostname to see more info about the system (e.g. compilers)      (*) as reported by 'uname -p', except on Windows and Mac OS X

Package 1289/2266HostnameOS / ArchINSTALLBUILDCHECKBUILD BIN
MMDiff2 1.30.0  (landing page)
Gabriele Schweikert
Snapshot Date: 2024-02-21 14:05:05 -0500 (Wed, 21 Feb 2024)
git_url: https://git.bioconductor.org/packages/MMDiff2
git_branch: RELEASE_3_18
git_last_commit: 59a5822
git_last_commit_date: 2023-10-24 10:50:12 -0500 (Tue, 24 Oct 2023)
nebbiolo2Linux (Ubuntu 22.04.3 LTS) / x86_64  OK    OK    OK  UNNEEDED, same version is already published
palomino4Windows Server 2022 Datacenter / x64  OK    OK    WARNINGS    OK  UNNEEDED, same version is already published
lconwaymacOS 12.7.1 Monterey / x86_64  OK    OK    OK    OK  UNNEEDED, same version is already published
kjohnson1macOS 13.6.1 Ventura / arm64see weekly results here

BUILD BIN results for MMDiff2 on palomino4


To the developers/maintainers of the MMDiff2 package:
- Allow up to 24 hours (and sometimes 48 hours) for your latest push to git@git.bioconductor.org:packages/MMDiff2.git to reflect on this report. See Troubleshooting Build Report for more information.
- Use the following Renviron settings to reproduce errors and warnings.
- If 'R CMD check' started to fail recently on the Linux builder(s) over a missing dependency, add the missing dependency to 'Suggests:' in your DESCRIPTION file. See Renviron.bioc for more information.

raw results


Summary

Package: MMDiff2
Version: 1.30.0
Command: rm -rf MMDiff2.buildbin-libdir && mkdir MMDiff2.buildbin-libdir && F:\biocbuild\bbs-3.18-bioc\R\bin\R.exe CMD INSTALL --build --library=MMDiff2.buildbin-libdir MMDiff2_1.30.0.tar.gz
StartedAt: 2024-02-22 08:50:25 -0500 (Thu, 22 Feb 2024)
EndedAt: 2024-02-22 08:51:15 -0500 (Thu, 22 Feb 2024)
EllapsedTime: 49.8 seconds
RetCode: 0
Status:   OK  
PackageFile: MMDiff2_1.30.0.zip
PackageFileSize: 3.079 MiB

Command output

##############################################################################
##############################################################################
###
### Running command:
###
###   rm -rf MMDiff2.buildbin-libdir && mkdir MMDiff2.buildbin-libdir && F:\biocbuild\bbs-3.18-bioc\R\bin\R.exe CMD INSTALL --build --library=MMDiff2.buildbin-libdir MMDiff2_1.30.0.tar.gz
###
##############################################################################
##############################################################################


* installing *source* package 'MMDiff2' ...
** using staged installation
** R
** data
** inst
** byte-compile and prepare package for lazy loading
Warning: replacing previous import 'GenomicRanges::windows' by 'grDevices::windows' when loading 'MMDiff2'
** help
*** installing help indices
** building package indices
** installing vignettes
** testing if installed package can be loaded from temporary location
Warning: replacing previous import 'GenomicRanges::windows' by 'grDevices::windows' when loading 'MMDiff2'
** testing if installed package can be loaded from final location
Warning: replacing previous import 'GenomicRanges::windows' by 'grDevices::windows' when loading 'MMDiff2'
** testing if installed package keeps a record of temporary installation path
* MD5 sums
packaged installation of 'MMDiff2' as MMDiff2_1.30.0.zip
* DONE (MMDiff2)