Back to Multiple platform build/check report for BioC 3.12
ABCDEFGHIJKL[M]NOPQRSTUVWXYZ

Multiple platform build/check report for BioC 3.12

Results for package MCbiclust

This page was generated on 2021-03-03 12:08:55 -0500 (Wed, 03 Mar 2021).

Package 1022/1974HostnameOS / ArchINSTALLBUILDCHECKBUILD BIN
MCbiclust 1.14.0
Robert Bentham
Snapshot Date: 2021-03-02 14:50:31 -0500 (Tue, 02 Mar 2021)
URL: https://git.bioconductor.org/packages/MCbiclust
Branch: RELEASE_3_12
Last Commit: 6b1a37f
Last Changed Date: 2020-10-27 11:21:14 -0500 (Tue, 27 Oct 2020)
malbec1Linux (Ubuntu 18.04.5 LTS) / x86_64  OK    OK    OK  UNNEEDED, same version exists in internal repository
nebbiolo1Linux (Ubuntu 20.04.2 LTS) / x86_64  OK    OK    OK  
tokay1Windows Server 2012 R2 Standard / x64  OK    OK    OK    OK  UNNEEDED, same version exists in internal repository
merida1macOS 10.14.6 Mojave / x86_64  OK    OK    OK    OK  UNNEEDED, same version exists in internal repository