Name | Last modified | Size | Description | |
---|---|---|---|---|
Parent Directory | - | |||
buildsrc-summary.dcf | 15-Jun-2024 03:37 | 411 | ||
install-out.txt | 15-Jun-2024 03:37 | 806 | ||
install-summary.dcf | 15-Jun-2024 03:37 | 255 | ||
buildsrc-out.txt | 15-Jun-2024 03:37 | 838 | ||
checksrc-out.txt | 15-Jun-2024 03:37 | 3.7K | ||
checksrc-summary.dcf | 15-Jun-2024 03:37 | 406 | ||