Index of /checkResults/release/bioc-LATEST/MACSr/raw-results

[ICO]NameLast modifiedSizeDescription

[DIR]Parent Directory  -  
[   ]info.dcf18-Jan-2022 03:07 266  
[DIR]machv2/18-Jan-2022 03:07 -  
[DIR]nebbiolo2/18-Jan-2022 03:05 -