Name | Last modified | Size | Description | |
---|---|---|---|---|
Parent Directory | - | |||
buildbin-out.txt | 30-Mar-2024 00:36 | 1.9K | ||
buildbin-summary.dcf | 30-Mar-2024 00:36 | 515 | ||
buildsrc-out.txt | 30-Mar-2024 00:36 | 931 | ||
buildsrc-summary.dcf | 30-Mar-2024 00:36 | 453 | ||
checksrc-out.txt | 30-Mar-2024 00:36 | 5.2K | ||
checksrc-summary.dcf | 30-Mar-2024 00:36 | 447 | ||
install-out.txt | 30-Mar-2024 00:36 | 1.8K | ||
install-summary.dcf | 30-Mar-2024 00:36 | 268 | ||