Index of /checkResults/release/bioc-LATEST/Linnorm/raw-results

[ICO]NameLast modifiedSizeDescription

[DIR]Parent Directory  -  
[   ]info.dcf17-May-2022 00:07 270  
[DIR]merida1/17-May-2022 00:07 -  
[DIR]nebbiolo1/17-May-2022 00:05 -  
[DIR]palomino3/17-May-2022 00:06 -  
[DIR]riesling1/19-Mar-2022 00:07 -