Index of /checkResults/release/bioc-LATEST/INPower/raw-results/nebbiolo1

[ICO]NameLast modifiedSizeDescription

[DIR]Parent Directory  -  
[TXT]buildsrc-out.txt22-Jun-2024 06:38 806  
[   ]buildsrc-summary.dcf22-Jun-2024 06:38 415  
[TXT]checksrc-out.txt22-Jun-2024 06:38 3.8K 
[   ]checksrc-summary.dcf22-Jun-2024 06:38 413  
[TXT]install-out.txt22-Jun-2024 06:38 952  
[   ]install-summary.dcf22-Jun-2024 06:38 258