Index of /checkResults/release/bioc-LATEST/INPower/raw-results/nebbiolo1

[ICO]NameLast modifiedSizeDescription

[DIR]Parent Directory  -  
[TXT]buildsrc-out.txt20-Jul-2024 06:37 806  
[   ]buildsrc-summary.dcf20-Jul-2024 06:37 416  
[TXT]checksrc-out.txt20-Jul-2024 06:37 3.8K 
[   ]checksrc-summary.dcf20-Jul-2024 06:37 413  
[TXT]install-out.txt20-Jul-2024 06:37 952  
[   ]install-summary.dcf20-Jul-2024 06:37 258