Back to Multiple platform build/check report for BioC 3.12
ABCDEFG[H]IJKLMNOPQRSTUVWXYZ

Multiple platform build/check report for BioC 3.12

All results for package HilbertVisGUI

This page was generated on 2021-04-17 12:05:55 -0400 (Sat, 17 Apr 2021).

Package 836/1974HostnameOS / ArchINSTALLBUILDCHECKBUILD BIN
HilbertVisGUI 1.48.0  (landing page)
Simon Anders
Snapshot Date: 2021-04-16 14:50:12 -0400 (Fri, 16 Apr 2021)
URL: https://git.bioconductor.org/packages/HilbertVisGUI
Branch: RELEASE_3_12
Last Commit: d371910
Last Changed Date: 2020-10-27 10:34:57 -0400 (Tue, 27 Oct 2020)
malbec1Linux (Ubuntu 18.04.5 LTS) / x86_64  OK    OK    WARNINGS  UNNEEDED, same version exists in internal repository
tokay1Windows Server 2012 R2 Standard / x64  ERROR    ERROR  skippedskipped
merida1macOS 10.14.6 Mojave / x86_64... NOT SUPPORTED ...