Back to Multiple platform build/check report for BioC 3.16:   simplified   long
ABCDEFG[H]IJKLMNOPQRSTUVWXYZ

This page was generated on 2023-03-24 11:06:01 -0400 (Fri, 24 Mar 2023).

HostnameOSArch (*)R versionInstalled pkgs
nebbiolo2Linux (Ubuntu 20.04.5 LTS)x86_644.2.3 (2023-03-15) -- "Shortstop Beagle" 4286
palomino4Windows Server 2022 Datacenterx644.2.3 (2023-03-15 ucrt) -- "Shortstop Beagle" 4276
lconwaymacOS 12.5.1 Montereyx86_644.2.3 (2023-03-15) -- "Shortstop Beagle" 4303
Click on any hostname to see more info about the system (e.g. compilers)      (*) as reported by 'uname -p', except on Windows and Mac OS X

CHECK results for HilbertCurve on palomino4


To the developers/maintainers of the HilbertCurve package:
- Please allow up to 24 hours (and sometimes 48 hours) for your latest push to git@git.bioconductor.org:packages/HilbertCurve.git to
reflect on this report. See How and When does the builder pull? When will my changes propagate? for more information.
- Make sure to use the following settings in order to reproduce any error or warning you see on this page.

raw results

Package 911/2183HostnameOS / ArchINSTALLBUILDCHECKBUILD BIN
HilbertCurve 1.28.0  (landing page)
Zuguang Gu
Snapshot Date: 2023-03-22 14:00:04 -0400 (Wed, 22 Mar 2023)
git_url: https://git.bioconductor.org/packages/HilbertCurve
git_branch: RELEASE_3_16
git_last_commit: 7708201
git_last_commit_date: 2022-11-01 11:11:58 -0400 (Tue, 01 Nov 2022)
nebbiolo2Linux (Ubuntu 20.04.5 LTS) / x86_64  OK    OK    OK  UNNEEDED, same version is already published
palomino4Windows Server 2022 Datacenter / x64  OK    OK    OK    OK  UNNEEDED, same version is already published
lconwaymacOS 12.5.1 Monterey / x86_64  OK    OK    OK    OK  UNNEEDED, same version is already published

Summary

Package: HilbertCurve
Version: 1.28.0
Command: F:\biocbuild\bbs-3.16-bioc\R\bin\R.exe CMD check --no-multiarch --install=check:HilbertCurve.install-out.txt --library=F:\biocbuild\bbs-3.16-bioc\R\library --no-vignettes --timings HilbertCurve_1.28.0.tar.gz
StartedAt: 2023-03-23 02:28:59 -0400 (Thu, 23 Mar 2023)
EndedAt: 2023-03-23 02:31:15 -0400 (Thu, 23 Mar 2023)
EllapsedTime: 136.0 seconds
RetCode: 0
Status:   OK  
CheckDir: HilbertCurve.Rcheck
Warnings: 0

Command output

##############################################################################
##############################################################################
###
### Running command:
###
###   F:\biocbuild\bbs-3.16-bioc\R\bin\R.exe CMD check --no-multiarch --install=check:HilbertCurve.install-out.txt --library=F:\biocbuild\bbs-3.16-bioc\R\library --no-vignettes --timings HilbertCurve_1.28.0.tar.gz
###
##############################################################################
##############################################################################


* using log directory 'F:/biocbuild/bbs-3.16-bioc/meat/HilbertCurve.Rcheck'
* using R version 4.2.3 (2023-03-15 ucrt)
* using platform: x86_64-w64-mingw32 (64-bit)
* using session charset: UTF-8
* using option '--no-vignettes'
* checking for file 'HilbertCurve/DESCRIPTION' ... OK
* checking extension type ... Package
* this is package 'HilbertCurve' version '1.28.0'
* checking package namespace information ... OK
* checking package dependencies ... OK
* checking if this is a source package ... OK
* checking if there is a namespace ... OK
* checking for hidden files and directories ... OK
* checking for portable file names ... OK
* checking whether package 'HilbertCurve' can be installed ... OK
* checking installed package size ... OK
* checking package directory ... OK
* checking 'build' directory ... OK
* checking DESCRIPTION meta-information ... OK
* checking top-level files ... OK
* checking for left-over files ... OK
* checking index information ... OK
* checking package subdirectories ... OK
* checking R files for non-ASCII characters ... OK
* checking R files for syntax errors ... OK
* checking whether the package can be loaded ... OK
* checking whether the package can be loaded with stated dependencies ... OK
* checking whether the package can be unloaded cleanly ... OK
* checking whether the namespace can be loaded with stated dependencies ... OK
* checking whether the namespace can be unloaded cleanly ... OK
* checking dependencies in R code ... OK
* checking S3 generic/method consistency ... OK
* checking replacement functions ... OK
* checking foreign function calls ... OK
* checking R code for possible problems ... OK
* checking Rd files ... OK
* checking Rd metadata ... OK
* checking Rd cross-references ... OK
* checking for missing documentation entries ... OK
* checking for code/documentation mismatches ... OK
* checking Rd \usage sections ... OK
* checking Rd contents ... OK
* checking for unstated dependencies in examples ... OK
* checking installed files from 'inst/doc' ... OK
* checking files in 'vignettes' ... OK
* checking examples ... OK
Examples with CPU (user + system) or elapsed time > 5s
                                    user system elapsed
hc_layer-HilbertCurve-method        9.20   0.41    9.94
hc_layer-GenomicHilbertCurve-method 7.44   0.27    8.34
GenomicHilbertCurve                 6.94   0.19    7.79
* checking for unstated dependencies in 'tests' ... OK
* checking tests ...
  Running 'test-all.R'
 OK
* checking for unstated dependencies in vignettes ... OK
* checking package vignettes in 'inst/doc' ... OK
* checking running R code from vignettes ... SKIPPED
* checking re-building of vignette outputs ... SKIPPED
* checking PDF version of manual ... OK
* DONE

Status: OK


Installation output

HilbertCurve.Rcheck/00install.out

##############################################################################
##############################################################################
###
### Running command:
###
###   F:\biocbuild\bbs-3.16-bioc\R\bin\R.exe CMD INSTALL HilbertCurve
###
##############################################################################
##############################################################################


* installing to library 'F:/biocbuild/bbs-3.16-bioc/R/library'
* installing *source* package 'HilbertCurve' ...
** using staged installation
** R
** inst
** byte-compile and prepare package for lazy loading
** help
*** installing help indices
** building package indices
** installing vignettes
** testing if installed package can be loaded from temporary location
** testing if installed package can be loaded from final location
** testing if installed package keeps a record of temporary installation path
* DONE (HilbertCurve)

Tests output

HilbertCurve.Rcheck/tests/test-all.Rout


R version 4.2.3 (2023-03-15 ucrt) -- "Shortstop Beagle"
Copyright (C) 2023 The R Foundation for Statistical Computing
Platform: x86_64-w64-mingw32/x64 (64-bit)

R is free software and comes with ABSOLUTELY NO WARRANTY.
You are welcome to redistribute it under certain conditions.
Type 'license()' or 'licence()' for distribution details.

R is a collaborative project with many contributors.
Type 'contributors()' for more information and
'citation()' on how to cite R or R packages in publications.

Type 'demo()' for some demos, 'help()' for on-line help, or
'help.start()' for an HTML browser interface to help.
Type 'q()' to quit R.

> library(testthat)
> suppressWarnings(suppressPackageStartupMessages(library(HilbertCurve)))
> 
> test_check("HilbertCurve")
[ FAIL 0 | WARN 0 | SKIP 0 | PASS 8 ]
> 
> proc.time()
   user  system elapsed 
   3.37    0.48    3.79 

Example timings

HilbertCurve.Rcheck/HilbertCurve-Ex.timings

nameusersystemelapsed
GenomicHilbertCurve-class000
GenomicHilbertCurve6.940.197.79
HilbertCurve-class000
HilbertCurve0.540.030.58
default_overlay000
hc_centered_text-HilbertCurve-method0.130.000.22
hc_layer-GenomicHilbertCurve-method7.440.278.34
hc_layer-HilbertCurve-method9.200.419.94
hc_layer-dispatch000
hc_level-HilbertCurve-method0.020.000.01
hc_map-GenomicHilbertCurve-method2.680.032.72
hc_normal_points-HilbertCurve-method000
hc_offset-HilbertCurve-method0.020.000.02
hc_png-HilbertCurve-method2.690.122.81
hc_points-GenomicHilbertCurve-method0.420.030.45
hc_points-HilbertCurve-method0.510.050.57
hc_points-dispatch000
hc_polygon-GenomicHilbertCurve-method0.390.050.43
hc_polygon-HilbertCurve-method0.100.010.11
hc_polygon-dispatch000
hc_rect-GenomicHilbertCurve-method0.230.050.28
hc_rect-HilbertCurve-method0.080.000.08
hc_rect-dispatch000
hc_segmented_points-HilbertCurve-method000
hc_segments-GenomicHilbertCurve-method0.420.070.48
hc_segments-HilbertCurve-method0.100.000.09
hc_segments-dispatch000
hc_text-GenomicHilbertCurve-method0.150.070.22
hc_text-HilbertCurve-method0.060.010.08
hc_text-dispatch000
is_white000
show-HilbertCurve-method000
unzoom-HilbertCurve-method0.020.000.01
zoom-HilbertCurve-method000