Name | Last modified | Size | Description | |
---|---|---|---|---|
Parent Directory | - | |||
install-summary.dcf | 24-Jul-2024 22:06 | 275 | ||
install-out.txt | 24-Jul-2024 22:06 | 1.1K | ||
checksrc-summary.dcf | 24-Jul-2024 22:06 | 456 | ||
checksrc-out.txt | 24-Jul-2024 22:06 | 8.7K | ||
buildsrc-summary.dcf | 24-Jul-2024 22:06 | 437 | ||
buildsrc-out.txt | 24-Jul-2024 22:06 | 1.2K | ||
buildbin-summary.dcf | 24-Jul-2024 22:06 | 548 | ||
buildbin-out.txt | 24-Jul-2024 22:06 | 1.3K | ||