![]() | Name | Last modified | Size | Description |
---|---|---|---|---|
![]() | Parent Directory | - | ||
![]() | buildbin-out.txt | 24-Sep-2023 00:36 | 4.3K | |
![]() | buildbin-summary.dcf | 24-Sep-2023 00:36 | 530 | |
![]() | buildsrc-out.txt | 24-Sep-2023 00:36 | 909 | |
![]() | buildsrc-summary.dcf | 24-Sep-2023 00:36 | 425 | |
![]() | checksrc-out.txt | 24-Sep-2023 00:36 | 4.5K | |
![]() | checksrc-summary.dcf | 24-Sep-2023 00:36 | 449 | |
![]() | install-out.txt | 24-Sep-2023 00:36 | 2.4K | |
![]() | install-summary.dcf | 24-Sep-2023 00:36 | 269 | |