Index of /checkResults/release/bioc-LATEST/HMMcopy/raw-results

[ICO]NameLast modifiedSizeDescription

[DIR]Parent Directory  -  
[   ]info.dcf25-Jan-2022 03:07 295  
[DIR]machv2/25-Jan-2022 03:07 -  
[DIR]nebbiolo2/25-Jan-2022 03:05 -  
[DIR]tokay2/25-Jan-2022 03:06 -