Name | Last modified | Size | Description | |
---|---|---|---|---|
Parent Directory | - | |||
buildbin-out.txt | 24-Jul-2024 22:07 | 4.2K | ||
buildbin-summary.dcf | 24-Jul-2024 22:07 | 529 | ||
buildsrc-out.txt | 24-Jul-2024 22:07 | 909 | ||
buildsrc-summary.dcf | 24-Jul-2024 22:07 | 427 | ||
checksrc-out.txt | 24-Jul-2024 22:07 | 4.8K | ||
checksrc-summary.dcf | 24-Jul-2024 22:07 | 449 | ||
install-out.txt | 24-Jul-2024 22:07 | 2.3K | ||
install-summary.dcf | 24-Jul-2024 22:07 | 268 | ||