Name | Last modified | Size | Description | |
---|---|---|---|---|
Parent Directory | - | |||
checksrc-out.txt | 17-Jul-2024 06:39 | 12K | ||
buildbin-out.txt | 17-Jul-2024 06:39 | 2.0K | ||
install-out.txt | 17-Jul-2024 06:39 | 1.9K | ||
buildsrc-out.txt | 17-Jul-2024 06:39 | 930 | ||
buildbin-summary.dcf | 17-Jul-2024 06:39 | 497 | ||
buildsrc-summary.dcf | 17-Jul-2024 06:39 | 441 | ||
checksrc-summary.dcf | 17-Jul-2024 06:39 | 435 | ||
install-summary.dcf | 17-Jul-2024 06:39 | 262 | ||