Name | Last modified | Size | Description | |
---|---|---|---|---|
Parent Directory | - | |||
checksrc-out.txt | 12-Jun-2024 03:42 | 11K | ||
buildbin-out.txt | 12-Jun-2024 03:42 | 3.9K | ||
install-out.txt | 12-Jun-2024 03:42 | 2.1K | ||
buildsrc-out.txt | 12-Jun-2024 03:42 | 882 | ||
buildbin-summary.dcf | 12-Jun-2024 03:42 | 512 | ||
checksrc-summary.dcf | 12-Jun-2024 03:42 | 432 | ||
buildsrc-summary.dcf | 12-Jun-2024 03:42 | 419 | ||
install-summary.dcf | 12-Jun-2024 03:42 | 263 | ||