Index of /checkResults/release/bioc-LATEST/GOTHiC/raw-results

[ICO]NameLast modifiedSizeDescription

[DIR]Parent Directory  -  
[DIR]merida1/05-Mar-2024 01:39 -  
[DIR]kunpeng2/10-May-2024 00:40 -  
[   ]info.dcf18-May-2024 00:35 270  
[DIR]nebbiolo1/18-May-2024 00:36 -  
[DIR]palomino3/18-May-2024 00:36 -  
[DIR]lconway/18-May-2024 00:37 -