Index of /checkResults/release/bioc-LATEST/GNET2/raw-results/nebbiolo1

[ICO]NameLast modifiedSizeDescription

[DIR]Parent Directory  -  
[TXT]buildsrc-out.txt28-Jun-2022 00:09 868  
[   ]buildsrc-summary.dcf28-Jun-2022 00:09 411  
[TXT]checksrc-out.txt28-Jun-2022 00:09 3.1K 
[   ]checksrc-summary.dcf28-Jun-2022 00:09 416  
[TXT]install-out.txt28-Jun-2022 00:09 1.6K 
[   ]install-summary.dcf28-Jun-2022 00:09 255