Index of /checkResults/release/bioc-LATEST/GNET2/raw-results

[ICO]NameLast modifiedSizeDescription

[DIR]Parent Directory  -  
[   ]info.dcf29-Jan-2023 01:08 267  
[DIR]kjohnson/12-Jul-2022 00:06 -  
[DIR]lconway/29-Jan-2023 01:08 -  
[DIR]nebbiolo2/29-Jan-2023 01:05 -  
[DIR]palomino4/29-Jan-2023 01:06 -