Back to Multiple platform build/check report for BioC 3.18:   simplified   long
ABCD[E]FGHIJKLMNOPQRSTUVWXYZ

This page was generated on 2024-02-27 11:36:36 -0500 (Tue, 27 Feb 2024).

HostnameOSArch (*)R versionInstalled pkgs
nebbiolo2Linux (Ubuntu 22.04.3 LTS)x86_644.3.2 Patched (2023-11-13 r85521) -- "Eye Holes" 4691
palomino4Windows Server 2022 Datacenterx644.3.2 (2023-10-31 ucrt) -- "Eye Holes" 4444
lconwaymacOS 12.7.1 Montereyx86_644.3.2 Patched (2023-11-01 r85457) -- "Eye Holes" 4465
Click on any hostname to see more info about the system (e.g. compilers)      (*) as reported by 'uname -p', except on Windows and Mac OS X

Package 673/2266HostnameOS / ArchINSTALLBUILDCHECKBUILD BIN
EventPointer 3.10.0  (landing page)
Juan A. Ferrer-Bonsoms
Snapshot Date: 2024-02-26 14:53:20 -0500 (Mon, 26 Feb 2024)
git_url: https://git.bioconductor.org/packages/EventPointer
git_branch: RELEASE_3_18
git_last_commit: 3989887
git_last_commit_date: 2023-10-24 10:55:44 -0500 (Tue, 24 Oct 2023)
nebbiolo2Linux (Ubuntu 22.04.3 LTS) / x86_64  OK    OK    OK  UNNEEDED, same version is already published
palomino4Windows Server 2022 Datacenter / x64  OK    OK    OK    OK  UNNEEDED, same version is already published
lconwaymacOS 12.7.1 Monterey / x86_64  OK    OK    OK    OK  UNNEEDED, same version is already published
kjohnson1macOS 13.6.1 Ventura / arm64see weekly results here

BUILD results for EventPointer on palomino4


To the developers/maintainers of the EventPointer package:
- Allow up to 24 hours (and sometimes 48 hours) for your latest push to git@git.bioconductor.org:packages/EventPointer.git to reflect on this report. See Troubleshooting Build Report for more information.
- Use the following Renviron settings to reproduce errors and warnings.
- If 'R CMD check' started to fail recently on the Linux builder(s) over a missing dependency, add the missing dependency to 'Suggests:' in your DESCRIPTION file. See Renviron.bioc for more information.

raw results


Summary

Package: EventPointer
Version: 3.10.0
Command: chmod a+r EventPointer -R && F:\biocbuild\bbs-3.18-bioc\R\bin\R.exe CMD build --keep-empty-dirs --no-resave-data EventPointer
StartedAt: 2024-02-26 19:19:09 -0500 (Mon, 26 Feb 2024)
EndedAt: 2024-02-26 19:20:52 -0500 (Mon, 26 Feb 2024)
EllapsedTime: 102.5 seconds
RetCode: 0
Status:   OK  
PackageFile: EventPointer_3.10.0.tar.gz
PackageFileSize: 1.642 MiB

Command output

##############################################################################
##############################################################################
###
### Running command:
###
###   chmod a+r EventPointer -R && F:\biocbuild\bbs-3.18-bioc\R\bin\R.exe CMD build --keep-empty-dirs --no-resave-data EventPointer
###
##############################################################################
##############################################################################


* checking for file 'EventPointer/DESCRIPTION' ... OK
* preparing 'EventPointer':
* checking DESCRIPTION meta-information ... OK
* cleaning src
* installing the package to build vignettes
* creating vignettes ... OK
* cleaning src
* checking for LF line-endings in source and make files and shell scripts
* checking for empty or unneeded directories
  NB: this package now depends on R (>= 3.5.0)
  WARNING: Added dependency on R >= 3.5.0 because serialized objects in
  serialize/load version 3 cannot be read in older versions of R.
  File(s) containing such objects:
    'EventPointer/data/EventXtrans.rda' 'EventPointer/data/Fit.rda'
    'EventPointer/data/PSIss.rda' 'EventPointer/data/SG_RNASeq.rda'
    'EventPointer/data/SG_reclassify.rda' 'EventPointer/data/TxD.rda'
* building 'EventPointer_3.10.0.tar.gz'