Back to Multiple platform build/check report for BioC 3.12
ABCD[E]FGHIJKLMNOPQRSTUVWXYZ

Multiple platform build/check report for BioC 3.12

Results for EBImage

This page was generated on 2020-11-29 11:49:30 -0500 (Sun, 29 Nov 2020).

Package 525/1974HostnameOS / ArchINSTALLBUILDCHECKBUILD BIN
EBImage 4.32.0
Andrzej OleĊ›
Snapshot Date: 2020-11-28 14:40:17 -0500 (Sat, 28 Nov 2020)
URL: https://git.bioconductor.org/packages/EBImage
Branch: RELEASE_3_12
Last Commit: de9ff23
Last Changed Date: 2020-10-27 10:28:18 -0500 (Tue, 27 Oct 2020)
malbec1 Linux (Ubuntu 18.04.4 LTS) / x86_64  OK  OK  OK UNNEEDED, same version exists in internal repository
nebbiolo1 Linux (Ubuntu 20.04.1 LTS) / x86_64  OK  OK  OK 
tokay1 Windows Server 2012 R2 Standard / x64  OK  OK  OK  OK UNNEEDED, same version exists in internal repository
merida1 macOS 10.14.6 Mojave / x86_64  OK  OK  OK  OK UNNEEDED, same version exists in internal repository