Index of /checkResults/release/bioc-LATEST/DelayedTensor/raw-results/palomino3

[ICO]NameLast modifiedSizeDescription

[DIR]Parent Directory  -  
[TXT]buildbin-out.txt22-Jun-2024 06:39 1.4K 
[   ]buildbin-summary.dcf22-Jun-2024 06:39 551  
[TXT]buildsrc-out.txt22-Jun-2024 06:39 902  
[   ]buildsrc-summary.dcf22-Jun-2024 06:39 477  
[TXT]checksrc-out.txt22-Jun-2024 06:39 4.8K 
[   ]checksrc-summary.dcf22-Jun-2024 06:39 477  
[TXT]install-out.txt22-Jun-2024 06:39 1.2K 
[   ]install-summary.dcf22-Jun-2024 06:39 280