Index of /checkResults/release/bioc-LATEST/DelayedTensor/raw-results/palomino3

[ICO]NameLast modifiedSizeDescription

[DIR]Parent Directory  -  
[   ]install-summary.dcf29-Jun-2024 06:41 280  
[   ]buildsrc-summary.dcf29-Jun-2024 06:41 477  
[   ]checksrc-summary.dcf29-Jun-2024 06:41 477  
[   ]buildbin-summary.dcf29-Jun-2024 06:41 551  
[TXT]buildsrc-out.txt29-Jun-2024 06:41 902  
[TXT]install-out.txt29-Jun-2024 06:41 1.2K 
[TXT]buildbin-out.txt29-Jun-2024 06:41 1.4K 
[TXT]checksrc-out.txt29-Jun-2024 06:41 4.8K