Name | Last modified | Size | Description | |
---|---|---|---|---|
Parent Directory | - | |||
install-summary.dcf | 12-Jun-2024 03:39 | 269 | ||
buildsrc-summary.dcf | 12-Jun-2024 03:39 | 432 | ||
checksrc-summary.dcf | 12-Jun-2024 03:39 | 499 | ||
buildsrc-out.txt | 12-Jun-2024 03:39 | 856 | ||
install-out.txt | 12-Jun-2024 03:39 | 3.4K | ||
checksrc-out.txt | 12-Jun-2024 03:39 | 4.6K | ||