Name | Last modified | Size | Description | |
---|---|---|---|---|
Parent Directory | - | |||
install-summary.dcf | 24-Jul-2024 22:07 | 279 | ||
install-out.txt | 24-Jul-2024 22:07 | 3.8K | ||
checksrc-summary.dcf | 24-Jul-2024 22:07 | 529 | ||
checksrc-out.txt | 24-Jul-2024 22:07 | 4.7K | ||
buildsrc-summary.dcf | 24-Jul-2024 22:07 | 442 | ||
buildsrc-out.txt | 24-Jul-2024 22:07 | 866 | ||
buildbin-summary.dcf | 24-Jul-2024 22:07 | 560 | ||
buildbin-out.txt | 24-Jul-2024 22:07 | 5.8K | ||