Index of /checkResults/release/bioc-LATEST/ChIPQC/raw-results

[ICO]NameLast modifiedSizeDescription

[DIR]Parent Directory  -  
[DIR]kunpeng2/10-May-2024 00:40 -  
[DIR]lconway/23-May-2024 00:36 -  
[DIR]merida1/05-Mar-2024 01:38 -  
[DIR]nebbiolo1/23-May-2024 00:34 -  
[DIR]palomino3/23-May-2024 00:35 -  
[   ]info.dcf23-May-2024 00:33 312