Index of /checkResults/release/bioc-LATEST/ChIPQC/raw-results/lconway

[ICO]NameLast modifiedSizeDescription

[DIR]Parent Directory  -  
[TXT]buildbin-out.txt29-May-2024 00:35 1.1K 
[   ]buildbin-summary.dcf29-May-2024 00:35 524  
[TXT]buildsrc-out.txt29-May-2024 00:35 875  
[   ]buildsrc-summary.dcf29-May-2024 00:35 424  
[TXT]checksrc-out.txt29-May-2024 00:35 10K 
[   ]checksrc-summary.dcf29-May-2024 00:35 446  
[TXT]install-out.txt29-May-2024 00:35 1.0K 
[   ]install-summary.dcf29-May-2024 00:35 267