Index of /checkResults/release/bioc-LATEST/Cepo/raw-results/lconway
Name
Last modified
Size
Description
Parent Directory
-
buildsrc-out.txt
05-May-2024 00:38
1.2K
buildsrc-summary.dcf
05-May-2024 00:38
337
install-out.txt
05-May-2024 00:38
1.0K
install-summary.dcf
05-May-2024 00:38
263