Index of /checkResults/release/bioc-LATEST/Category/raw-results
Name
Last modified
Size
Description
Parent Directory
-
merida1/
05-Mar-2024 01:38
-
info.dcf
08-May-2024 00:35
299
nebbiolo1/
08-May-2024 00:36
-
palomino3/
08-May-2024 00:37
-
lconway/
08-May-2024 00:38
-
kunpeng2/
08-May-2024 00:40
-