![]() | Name | Last modified | Size | Description |
---|---|---|---|---|
![]() | Parent Directory | - | ||
![]() | buildbin-out.txt | 04-Aug-2022 02:21 | 16K | |
![]() | buildbin-summary.dcf | 04-Aug-2022 02:21 | 545 | |
![]() | buildsrc-out.txt | 04-Aug-2022 02:21 | 896 | |
![]() | buildsrc-summary.dcf | 04-Aug-2022 02:21 | 472 | |
![]() | checksrc-out.txt | 04-Aug-2022 02:21 | 3.7K | |
![]() | checksrc-summary.dcf | 04-Aug-2022 02:21 | 467 | |
![]() | install-out.txt | 04-Aug-2022 02:21 | 15K | |
![]() | install-summary.dcf | 04-Aug-2022 02:21 | 278 | |