Index of /checkResults/release/bioc-LATEST/BiGGR/raw-results/kunpeng2
Name
Last modified
Size
Description
Parent Directory
-
install-summary.dcf
10-May-2024 00:40
269
install-out.txt
10-May-2024 00:40
660
buildsrc-summary.dcf
10-May-2024 00:40
339
buildsrc-out.txt
10-May-2024 00:40
888