Index of /checkResults/release/bioc-LATEST/BiGGR/raw-results
Name
Last modified
Size
Description
Parent Directory
-
info.dcf
08-May-2024 00:34
278
kunpeng2/
08-May-2024 00:40
-
nebbiolo1/
08-May-2024 00:36
-
palomino3/
08-May-2024 00:37
-