Index of /checkResults/release/bioc-LATEST/BiGGR/raw-results/kunpeng2
Name
Last modified
Size
Description
Parent Directory
-
buildsrc-out.txt
03-Nov-2023 00:40
871
buildsrc-summary.dcf
03-Nov-2023 00:40
322
install-out.txt
03-Nov-2023 00:40
609
install-summary.dcf
03-Nov-2023 00:40
252