Index of /checkResults/release/bioc-LATEST/BiGGR/raw-results
Name
Last modified
Size
Description
Parent Directory
-
palomino3/
15-Jun-2024 03:38
-
nebbiolo1/
15-Jun-2024 03:37
-
kunpeng2/
10-May-2024 00:40
-
info.dcf
15-Jun-2024 03:37
278